BEGIN:VCALENDAR
VERSION:2.0
PRODID:-//Library Market//iCal Export//EN
BEGIN:VEVENT
SUMMARY:Yarn Tales-Knitting and Crochet Club
UID:66915
DTSTAMP:20260420T222800Z
DTSTART:20260518T180000Z
DTEND:20260518T191500Z
LOCATION:Riverhead Free Library, 330 Court Street, Riverhead, NY 11901, Un
 ited States
ROOM: Stage Room
DESCRIPTION:Starting Monday, January 26 join a group of knitters and croch
 eters to share knowledge, projects and all things yarn.  No registration
  required. Bring your own supplies.  Please note that this is a social pr
 ogram and not instructional.Ages 18 and up. 
URL:https://www.riverheadlibrary.org/event/yarn-tales-knitting-and-crochet
 -club-66915
END:VEVENT
END:VCALENDAR
