BEGIN:VCALENDAR
VERSION:2.0
PRODID:-//Library Market//iCal Export//EN
BEGIN:VEVENT
SUMMARY:Italian Conversation Club
UID:66943
DTSTAMP:20260420T212100Z
DTSTART:20260514T180000Z
DTEND:20260514T200000Z
LOCATION:Riverhead Free Library, 330 Court Street, Riverhead, NY 11901, Un
 ited States
ROOM: Writer&#039;s Cove
DESCRIPTION:Want to stay fluent in Italian with other like minded students
 , join our Italian conversation club.   
URL:https://www.riverheadlibrary.org/event/italian-conversation-club-66943
END:VEVENT
END:VCALENDAR
