BEGIN:VCALENDAR
VERSION:2.0
PRODID:-//Library Market//iCal Export//EN
BEGIN:VEVENT
SUMMARY:Canasta Club
UID:66962
DTSTAMP:20260420T230500Z
DTSTART:20260522T170000Z
DTEND:20260522T190000Z
LOCATION:Riverhead Free Library, 330 Court Street, Riverhead, NY 11901, Un
 ited States
ROOM: Writer&#039;s Cove
DESCRIPTION:Drop in to play Canasta with your neighbors. All are welcome, 
 but enough knowledge to play unassisted is best.
URL:https://www.riverheadlibrary.org/event/canasta-club-66962
END:VEVENT
END:VCALENDAR
