BEGIN:VCALENDAR
VERSION:2.0
PRODID:-//Library Market//iCal Export//EN
BEGIN:VEVENT
SUMMARY:LEGO Club
UID:67063
DTSTAMP:20260420T045200Z
DTSTART:20260625T200000Z
DTEND:20260625T230000Z
LOCATION:Riverhead Free Library, 330 Court St., Riverhead, NY 11901, Unite
 d States
ROOM: Children&#039;s Programming Room
DESCRIPTION:Come check out our new and improved LEGO sets!! Get ready to 
 build, create, and let your imagination run wild! Join us for Family LEGO 
 Club and tackle fun challenges, design awesome creations or build from the
 med sets, and show off your brick-building skills. Whether you’re a mast
 er builder or just getting started, there’s fun for everyone. All ages w
 elcome—just bring your creativity and get ready to stack up some fun!No 
 registration required.
URL:https://www.riverheadlibrary.org/event/lego-club-67063
END:VEVENT
END:VCALENDAR
