BEGIN:VCALENDAR
VERSION:2.0
PRODID:-//Library Market//iCal Export//EN
BEGIN:VEVENT
SUMMARY:Toucan Time! (Preschool-Grade 2)
UID:67074
DTSTAMP:20260422T091400Z
DTSTART:20260622T040000Z
DTEND:20260622T040000Z
LOCATION:Riverhead Free Library, 330 Court St., Riverhead, NY 11901, Unite
 d States
ROOM: Children&#039;s Programming Room
DESCRIPTION:Celebrate World Rainforest Day by creating a colorful paper pl
 ate toucan inspired by the amazing birds that live in the rainforest.
URL:https://www.riverheadlibrary.org/event/toucan-time-preschool-grade-2-6
 7074
END:VEVENT
END:VCALENDAR
