BEGIN:VCALENDAR
VERSION:2.0
PRODID:-//Library Market//iCal Export//EN
BEGIN:VEVENT
SUMMARY:Dance With Me (12-36 months)
UID:67085
DTSTAMP:20260420T230500Z
DTSTART:20260511T143000Z
DTEND:20260511T151500Z
LOCATION:Riverhead Free Library, 330 Court St., Riverhead, NY 11901, Unite
 d States
ROOM: Children&#039;s Programming Room
DESCRIPTION:For ages 12-36 months. Join Great South Bay Dance for creative
  movement, dance, and activities! 
URL:https://www.riverheadlibrary.org/event/dance-me-12-36-months-67085
END:VEVENT
END:VCALENDAR
