BEGIN:VCALENDAR
VERSION:2.0
PRODID:-//Library Market//iCal Export//EN
BEGIN:VEVENT
SUMMARY:Babies Boogie (Birth-23 months)
UID:67086
DTSTAMP:20260420T230500Z
DTSTART:20260519T143000Z
DTEND:20260519T151500Z
LOCATION:Riverhead Free Library, 330 Court St., Riverhead, NY 11901, Unite
 d States
ROOM: Children&#039;s Programming Room
DESCRIPTION:For ages birth-23 months. Clap your hands, stomp your feet and
  move to the beat in this interactive music and movement class. 
URL:https://www.riverheadlibrary.org/event/babies-boogie-birth-23-months-6
 7086
END:VEVENT
END:VCALENDAR
