BEGIN:VCALENDAR
VERSION:2.0
PRODID:-//Library Market//iCal Export//EN
BEGIN:VEVENT
SUMMARY:Sing, Sign, with Me (Birth-5 years)
UID:67087
DTSTAMP:20260420T230500Z
DTSTART:20260527T143000Z
DTEND:20260527T151500Z
LOCATION:Riverhead Free Library, 330 Court St., Riverhead, NY 11901, Unite
 d States
ROOM: Children&#039;s Programming Room
DESCRIPTION:For ages birth-5 years. Learn sign language in a meaningful an
 d playful way with Registered and Licensed Occupational Therapist and Cert
 ified Signing Time Instructor, Lisamarie Curley.
URL:https://www.riverheadlibrary.org/event/sing-sign-me-birth-5-years-6708
 7
END:VEVENT
END:VCALENDAR
