BEGIN:VCALENDAR
VERSION:2.0
PRODID:-//Library Market//iCal Export//EN
BEGIN:VEVENT
SUMMARY:Tiny Tunes (1-3 years)
UID:67089
DTSTAMP:20260422T015300Z
DTSTART:20260612T143000Z
DTEND:20260612T150000Z
LOCATION:Riverhead Free Library, 330 Court St., Riverhead, NY 11901, Unite
 d States
ROOM: Children&#039;s Programming Room
DESCRIPTION:For ages 1-3. Join us on Fridays to sing, dance, or just bop a
 long to music with friends! Starting this month, our second session will i
 nclude a fun musical parachute playtime.
URL:https://www.riverheadlibrary.org/event/tiny-tunes-1-3-years-67089
END:VEVENT
END:VCALENDAR
