BEGIN:VCALENDAR
VERSION:2.0
PRODID:-//Library Market//iCal Export//EN
BEGIN:VEVENT
SUMMARY:Fun with Play Hooray (Birth-3 years)
UID:67093
DTSTAMP:20260422T040800Z
DTSTART:20260617T143000Z
DTEND:20260617T150000Z
LOCATION:Riverhead Free Library, 330 Court St., Riverhead, NY 11901, Unite
 d States
ROOM: Children&#039;s Programming Room
DESCRIPTION:For ages birth-3 years. Join Molly Mouse and the PlayHooray cr
 ew for this movement and music class.
URL:https://www.riverheadlibrary.org/event/fun-play-hooray-birth-3-years-6
 7093
END:VEVENT
END:VCALENDAR
