BEGIN:VCALENDAR
VERSION:2.0
PRODID:-//Library Market//iCal Export//EN
BEGIN:VEVENT
SUMMARY:Dino-mite Storytime Yoga (2-5 years)
UID:67101
DTSTAMP:20260422T075300Z
DTSTART:20260630T150000Z
DTEND:20260630T154500Z
LOCATION:Riverhead Free Library, 330 Court St., Riverhead, NY 11901, Unite
 d States
ROOM: Children&#039;s Programming Room
DESCRIPTION:For ages 2-5 years. Join Ms. Mary for a prehistoric adventure 
 where children stomp, stretch, and roar like dinosaurs! Through playful st
 orytelling and movement, kids build strength, balance, and listening skill
 s while practicing calming “dino breaths.”
URL:https://www.riverheadlibrary.org/event/dino-mite-storytime-yoga-2-5-ye
 ars-67101
END:VEVENT
END:VCALENDAR
