BEGIN:VCALENDAR
VERSION:2.0
PRODID:-//Library Market//iCal Export//EN
BEGIN:VEVENT
SUMMARY:Mighty Makers: Dino Shadow Puppets (Grades K-5)
UID:67107
DTSTAMP:20260420T230500Z
DTSTART:20260602T203000Z
DTEND:20260602T211500Z
LOCATION:Riverhead Free Library, 330 Court St., Riverhead, NY 11901, Unite
 d States
ROOM: Children&#039;s Programming Room
DESCRIPTION:Mighty Makers is a hands-on program series where kids explore 
 creativity through technology. In this session, step back to the age of di
 nosaurs as you design and decorate your own dinosaur shadow puppets. Then 
 learn how light and projectors create shadows as you bring your prehistori
 c creations to life on the big screen in a shadow puppet show! 
URL:https://www.riverheadlibrary.org/event/mighty-makers-dino-shadow-puppe
 ts-grades-k-5-67107
END:VEVENT
END:VCALENDAR
