BEGIN:VCALENDAR
VERSION:2.0
PRODID:-//Library Market//iCal Export//EN
BEGIN:VEVENT
SUMMARY:Slime Time: Dinosaur Edition (Grades K-5)
UID:67108
DTSTAMP:20260420T230500Z
DTSTART:20260604T200000Z
DTEND:20260604T203000Z
LOCATION:Riverhead Free Library, 330 Court St., Riverhead, NY 11901, Unite
 d States
ROOM: Children&#039;s Programming Room
DESCRIPTION:Dig into some ooey-gooey fun! Kids will create dinosaur-themed
  slime while exploring textures and getting a little messy.
URL:https://www.riverheadlibrary.org/event/slime-time-dinosaur-edition-gra
 des-k-5-67108
END:VEVENT
END:VCALENDAR
