BEGIN:VCALENDAR
VERSION:2.0
PRODID:-//Library Market//iCal Export//EN
BEGIN:VEVENT
SUMMARY:Dino-Headbands (Grades 1-5)
UID:67109
DTSTAMP:20260420T224700Z
DTSTART:20260606T150000Z
DTEND:20260606T160000Z
LOCATION:Riverhead Free Library, 330 Court St., Riverhead, NY 11901, Unite
 d States
ROOM: Children&#039;s Programming Room
DESCRIPTION:Enjoy storytime and then build your very own dinosaur themed h
 eadband to wear for summer reading! 
URL:https://www.riverheadlibrary.org/event/dino-headbands-grades-1-5-67109
END:VEVENT
END:VCALENDAR
