BEGIN:VCALENDAR
VERSION:2.0
PRODID:-//Library Market//iCal Export//EN
BEGIN:VEVENT
SUMMARY:Dino-Mite Builders (Grades 1-5)
UID:67111
DTSTAMP:20260422T091400Z
DTSTART:20260623T200000Z
DTEND:20260623T210000Z
LOCATION:Riverhead Free Library, 330 Court St., Riverhead, NY 11901, Unite
 d States
ROOM: Children&#039;s Programming Room
DESCRIPTION:Roar into storytime and then get crafty! Using paint and a pap
 er plate, you’ll stomp, splash, and create your very own dinosaur master
 piece.
URL:https://www.riverheadlibrary.org/event/dino-mite-builders-grades-1-5-6
 7111
END:VEVENT
END:VCALENDAR
