BEGIN:VCALENDAR
VERSION:2.0
PRODID:-//Library Market//iCal Export//EN
BEGIN:VEVENT
SUMMARY:Campsite Cookies (Grades K-5)
UID:67112
DTSTAMP:20260422T110400Z
DTSTART:20260629T213000Z
DTEND:20260629T221500Z
LOCATION:Riverhead Free Library, 330 Court St., Riverhead, NY 11901, Unite
 d States
ROOM: Children&#039;s Programming Room
DESCRIPTION:It’s National Camping Month! Celebrate with us by creating a
  delicious, edible campsite!
URL:https://www.riverheadlibrary.org/event/campsite-cookies-grades-k-5-671
 12
END:VEVENT
END:VCALENDAR
