BEGIN:VCALENDAR
VERSION:2.0
PRODID:-//Library Market//iCal Export//EN
BEGIN:VEVENT
SUMMARY:Design-A-Flag (Grades 6-12)
UID:67130
DTSTAMP:20260422T040800Z
DTSTART:20260615T040000Z
DTEND:20260620T040000Z
LOCATION:Riverhead Free Library, 330 Court St., Riverhead, NY 11901, Unite
 d States
ROOM: Teen Loft
DESCRIPTION:Express yourself and celebrate Pride by designing your own uni
 que flag! No registration required.
URL:https://www.riverheadlibrary.org/event/design-flag-67130
END:VEVENT
END:VCALENDAR
