BEGIN:VCALENDAR
VERSION:2.0
PRODID:-//Library Market//iCal Export//EN
BEGIN:VEVENT
SUMMARY:Game Your Way (Grades 6-12)
UID:67151
DTSTAMP:20260420T230200Z
DTSTART:20260520T200000Z
DTEND:20260520T220000Z
LOCATION:Riverhead Free Library, 330 Court St., Riverhead, NY 11901, Unite
 d States
ROOM: Teen Loft
DESCRIPTION:Calling all teens: come enjoy an afternoon of free play! From 
 board games, to video games, to VR, we want you to game your way!
URL:https://www.riverheadlibrary.org/event/game-your-way-67151
END:VEVENT
END:VCALENDAR
