BEGIN:VCALENDAR
VERSION:2.0
PRODID:-//Library Market//iCal Export//EN
BEGIN:VEVENT
SUMMARY:Watermelon Coasters (Grades 6-12)
UID:67197
DTSTAMP:20260422T015300Z
DTSTART:20260608T040000Z
DTEND:20260612T040000Z
LOCATION:Riverhead Free Library, 330 Court St., Riverhead, NY 11901, Unite
 d States
ROOM: Teen Loft
DESCRIPTION:Celebrate summer and make your own watermelon coasters! No re
 gistration required.
URL:https://www.riverheadlibrary.org/event/watermelon-coasters-67197
END:VEVENT
END:VCALENDAR
