BEGIN:VCALENDAR
VERSION:2.0
PRODID:-//Library Market//iCal Export//EN
BEGIN:VEVENT
SUMMARY:Teen Reading Challenge: Unearth a Story This Summer!
UID:67198
DTSTAMP:20260421T120900Z
DTSTART:20260608T040000Z
DTEND:20260808T040000Z
LOCATION:
DESCRIPTION:Step into a world of dinosaurs, danger, and discovery with our
  Jurassic Park–inspired Summer Reading Challenge! Track your reading min
 utes to earn badges and virtual raffle tickets for a chance to win awesome
  prizes. Explore thrilling stories, uncover hidden secrets, and see if you
  have what it takes to survive the adventure. The more you read, the more 
 you discover—so grab a book, dig in, and unearth a story this summer!
URL:https://www.riverheadlibrary.org/event/unearth-story-summer-67198
END:VEVENT
END:VCALENDAR
