BEGIN:VCALENDAR
VERSION:2.0
PRODID:-//Library Market//iCal Export//EN
BEGIN:VEVENT
SUMMARY:Children&#039;s Reading Challenge: Unearth a Story This Summer!
UID:67329
DTSTAMP:20260421T120900Z
DTSTART:20260608T040000Z
DTEND:20260808T040000Z
LOCATION:
DESCRIPTION:Get ready to stomp, chomp, and read your way through a world o
 f dinosaurs and adventure! Travel back to prehistoric times, meet amazing 
 dinos, and explore exciting stories with every book you open. Track your r
 eading minutes to earn badges and virtual raffle tickets for a chance to w
 in awesome prizes. The more you read, the more you discover—so start dig
 ging and unearth a story this summer! 
URL:https://www.riverheadlibrary.org/event/childrens-reading-challenge-une
 arth-story-summer-67329
END:VEVENT
END:VCALENDAR
