BEGIN:VCALENDAR
VERSION:2.0
PRODID:-//Library Market//iCal Export//EN
BEGIN:VEVENT
SUMMARY:Summer Reading Kickoff
UID:67330
DTSTAMP:20260420T172400Z
DTSTART:20260613T140000Z
DTEND:20260613T170000Z
LOCATION:Riverhead Free Library, 330 Court St., Riverhead, NY 11901, Unite
 d States
ROOM: Children&#039;s Programming Room
DESCRIPTION:Enjoy carnival-themed games, bounce around in the bounce house
 , and get up close with some friendly farm animals. It’s a day full of f
 un you won’t want to miss!
URL:https://www.riverheadlibrary.org/event/summer-reading-kickoff-67330
END:VEVENT
END:VCALENDAR
