BEGIN:VCALENDAR
VERSION:2.0
PRODID:-//Library Market//iCal Export//EN
BEGIN:VEVENT
SUMMARY:Tai Chi with Denise
UID:67338
DTSTAMP:20260420T211900Z
DTSTART:20260608T200000Z
DTEND:20260608T210000Z
LOCATION:Riverhead Free Library, 330 Court Street, Riverhead, NY 11901, Un
 ited States
ROOM: Craft Room
DESCRIPTION:Beginners welcome. This program is open to Riverhead Free Libr
 ary cardholders only. 
URL:https://www.riverheadlibrary.org/event/tai-chi-denise-67338
END:VEVENT
END:VCALENDAR
