BEGIN:VCALENDAR
VERSION:2.0
PRODID:-//Library Market//iCal Export//EN
BEGIN:VEVENT
SUMMARY:Stamp Club
UID:67341
DTSTAMP:20260420T230500Z
DTSTART:20260528T220000Z
DTEND:20260528T230000Z
LOCATION:Riverhead Free Library, 330 Court Street, Riverhead, NY 11901, Un
 ited States
ROOM: Perkins Long Island History Room
DESCRIPTION:Drop in to meet with neighbors who share your interest in phil
 ately. All are welcome.
URL:https://www.riverheadlibrary.org/event/stamp-club-67341
END:VEVENT
END:VCALENDAR
