BEGIN:VCALENDAR
VERSION:2.0
PRODID:-//Library Market//iCal Export//EN
BEGIN:VEVENT
SUMMARY:&quot;Donut&quot; Be Shy: Meet &amp; Greet
UID:67344
DTSTAMP:20260420T230500Z
DTSTART:20260605T180000Z
DTEND:20260605T190000Z
LOCATION:Riverhead Free Library, 330 Court Street, Riverhead, NY 11901, Un
 ited States
ROOM: Craft Room
DESCRIPTION:Come in and enjoy a sweet treat to celebrate National Donut Da
 y while getting to know other &quot;New Adults&quot; in your community!
URL:https://www.riverheadlibrary.org/event/donut-be-shy-meet-greet-67344
END:VEVENT
END:VCALENDAR
