BEGIN:VCALENDAR
VERSION:2.0
PRODID:-//Library Market//iCal Export//EN
BEGIN:VEVENT
SUMMARY:Audiobook Walking Group
UID:67346
DTSTAMP:20260420T230500Z
DTSTART:20260605T180000Z
DTEND:20260605T190000Z
LOCATION:North Fork East Trail Loop, 5330 Sound Ave, Aquebogue, NY 11931, 
 United States
ROOM: Audiobook Walking Group
DESCRIPTION:Come join us for a walk and listen!  Bring your current audio
 book to listen to just enjoy the sounds of nature as we take an easy 1-2 m
 ile hike. North Fork Preserve County ParkEast Trail Loop5330 Sound Ave, A
 quebogue
URL:https://www.riverheadlibrary.org/event/audiobook-walking-group-67346
END:VEVENT
END:VCALENDAR
