BEGIN:VCALENDAR
VERSION:2.0
PRODID:-//Library Market//iCal Export//EN
BEGIN:VEVENT
SUMMARY:Soccer Shots (18 months-2 years)
UID:67349
DTSTAMP:20260421T120900Z
DTSTART:20260918T143000Z
DTEND:20260918T150000Z
LOCATION:Riverhead Free Library, 330 Court Street, Riverhead, NY 11901, Un
 ited States
ROOM: Grand Room
DESCRIPTION:
URL:https://www.riverheadlibrary.org/event/soccer-shots-18-months-2-years-
 67349
END:VEVENT
END:VCALENDAR
