BEGIN:VCALENDAR
VERSION:2.0
PRODID:-//Library Market//iCal Export//EN
BEGIN:VEVENT
SUMMARY:Design Your Own Tote Bag Take &amp; Make
UID:67351
DTSTAMP:20260422T000900Z
DTSTART:20260608T130000Z
DTEND:20260609T000000Z
LOCATION:Riverhead Free Library, 330 Court St., Riverhead, NY 11901, Unite
 d States
ROOM: Grab &amp; Go
DESCRIPTION:Beginning on June 8 come by the Adult Reference Desk and pick 
 up this Tote Bag kit.   All supplies included.  Registration is require
 d.  Must be a RFL cardholder. One Tote Bag kit per person.  
URL:https://www.riverheadlibrary.org/event/design-your-own-tote-bag-take-m
 ake-67351
END:VEVENT
END:VCALENDAR
