BEGIN:VCALENDAR
VERSION:2.0
PRODID:-//Library Market//iCal Export//EN
BEGIN:VEVENT
SUMMARY:Self Care Journals
UID:67389
DTSTAMP:20260424T033400Z
DTSTART:20260515T133000Z
DTEND:20260515T150000Z
LOCATION:Riverhead Free Library, 330 Court St., Riverhead, NY 11901, Unite
 d States
ROOM: Maker Space
DESCRIPTION:Join us in the all new makerspace as we celebrate mental healt
 h awareness month. Using Cricut Design Space we will be creating vinyl ele
 ments to make unique self care journals. $5 per person due at the time of 
 in-person registration. 
URL:https://www.riverheadlibrary.org/event/self-care-journals-67389
END:VEVENT
END:VCALENDAR
