BEGIN:VCALENDAR
VERSION:2.0
PRODID:-//Library Market//iCal Export//EN
BEGIN:VEVENT
SUMMARY:Simple Cricut Card Making
UID:67424
DTSTAMP:20260424T082200Z
DTSTART:20260617T133000Z
DTEND:20260617T150000Z
LOCATION:Riverhead Free Library, 330 Court St., Riverhead, NY 11901, Unite
 d States
ROOM: Maker Space
DESCRIPTION:Join us in our all new makerspace as we design our own unique 
 cards. We will be using Cricut Design Space to put together beautiful and 
 simple greeting cards that you can keep or give to your loved ones. 
URL:https://www.riverheadlibrary.org/event/simple-cricut-card-making-67424
END:VEVENT
END:VCALENDAR
